BEGIN:VCALENDAR
VERSION:2.0
PRODID:-//Doggie - ECPv6.15.18//NONSGML v1.0//EN
CALSCALE:GREGORIAN
METHOD:PUBLISH
X-ORIGINAL-URL:https://doggie.sk
X-WR-CALDESC:Events for Doggie
REFRESH-INTERVAL;VALUE=DURATION:PT1H
X-Robots-Tag:noindex
X-PUBLISHED-TTL:PT1H
BEGIN:VTIMEZONE
TZID:Europe/Bratislava
BEGIN:DAYLIGHT
TZOFFSETFROM:+0100
TZOFFSETTO:+0200
TZNAME:CEST
DTSTART:20230326T010000
END:DAYLIGHT
BEGIN:STANDARD
TZOFFSETFROM:+0200
TZOFFSETTO:+0100
TZNAME:CET
DTSTART:20231029T010000
END:STANDARD
BEGIN:DAYLIGHT
TZOFFSETFROM:+0100
TZOFFSETTO:+0200
TZNAME:CEST
DTSTART:20240331T010000
END:DAYLIGHT
BEGIN:STANDARD
TZOFFSETFROM:+0200
TZOFFSETTO:+0100
TZNAME:CET
DTSTART:20241027T010000
END:STANDARD
BEGIN:DAYLIGHT
TZOFFSETFROM:+0100
TZOFFSETTO:+0200
TZNAME:CEST
DTSTART:20250330T010000
END:DAYLIGHT
BEGIN:STANDARD
TZOFFSETFROM:+0200
TZOFFSETTO:+0100
TZNAME:CET
DTSTART:20251026T010000
END:STANDARD
END:VTIMEZONE
BEGIN:VEVENT
DTSTART;TZID=Europe/Bratislava:20240817T000000
DTEND;TZID=Europe/Bratislava:20240824T235959
DTSTAMP:20260420T043201
CREATED:20240204T171936Z
LAST-MODIFIED:20240204T171937Z
UID:2588-1723852800-1724543999@doggie.sk
SUMMARY:DOGGIE Holiday UMAG
DESCRIPTION:Doggie Holiday Umag\n\n\n\n\n					252\,00 €\n				\n\nDovolenka so psami pri mori s Jurajom Ferkom. S nami máte skvelú možnosť zažiť aktívnu dovolenku pri krásnom Jadranskom mori so svojimi psami. Môžete sa zapojiť do programu\, ktorý máme […]  \n\n\n\n\n\n\n\nCategory: Výcviky\n\n\n\n\n\n\n\nZakúpiť
URL:https://doggie.sk/podujatie/doggie-holiday-umag/
END:VEVENT
END:VCALENDAR