BEGIN:VCALENDAR
VERSION:2.0
PRODID:-//Doggie - ECPv6.15.18//NONSGML v1.0//EN
CALSCALE:GREGORIAN
METHOD:PUBLISH
X-ORIGINAL-URL:https://doggie.sk
X-WR-CALDESC:Events for Doggie
REFRESH-INTERVAL;VALUE=DURATION:PT1H
X-Robots-Tag:noindex
X-PUBLISHED-TTL:PT1H
BEGIN:VTIMEZONE
TZID:Europe/Bratislava
BEGIN:DAYLIGHT
TZOFFSETFROM:+0100
TZOFFSETTO:+0200
TZNAME:CEST
DTSTART:20250330T010000
END:DAYLIGHT
BEGIN:STANDARD
TZOFFSETFROM:+0200
TZOFFSETTO:+0100
TZNAME:CET
DTSTART:20251026T010000
END:STANDARD
BEGIN:DAYLIGHT
TZOFFSETFROM:+0100
TZOFFSETTO:+0200
TZNAME:CEST
DTSTART:20260329T010000
END:DAYLIGHT
BEGIN:STANDARD
TZOFFSETFROM:+0200
TZOFFSETTO:+0100
TZNAME:CET
DTSTART:20261025T010000
END:STANDARD
BEGIN:DAYLIGHT
TZOFFSETFROM:+0100
TZOFFSETTO:+0200
TZNAME:CEST
DTSTART:20270328T010000
END:DAYLIGHT
BEGIN:STANDARD
TZOFFSETFROM:+0200
TZOFFSETTO:+0100
TZNAME:CET
DTSTART:20271031T010000
END:STANDARD
END:VTIMEZONE
BEGIN:VEVENT
DTSTART;TZID=Europe/Bratislava:20260210T180000
DTEND;TZID=Europe/Bratislava:20260210T185000
DTSTAMP:20260422T110218
CREATED:20260102T095759Z
LAST-MODIFIED:20260102T095801Z
UID:6338-1770746400-1770749400@doggie.sk
SUMMARY:Začiatok kurzu Puppy Group – BA – Rača
DESCRIPTION:ZľavaZľavnený produkt\n\n\n\n\nPuppy Group\n\n\n\n\n					210\,00 € Pôvodná cena bola: 210\,00 €.170\,00 €Aktuálna cena je: 170\,00 €.\n				\n\n\n\n\n	\n	\n		\n		\n		množstvo Puppy Group\n	\n	\n\n		Pridať do košíka
URL:https://doggie.sk/podujatie/zaciatok-kurzu-puppy-group-ba-raca-17/
END:VEVENT
BEGIN:VEVENT
DTSTART;TZID=Europe/Bratislava:20260210T190000
DTEND;TZID=Europe/Bratislava:20260210T195000
DTSTAMP:20260422T110218
CREATED:20260102T095920Z
LAST-MODIFIED:20260102T095922Z
UID:6341-1770750000-1770753000@doggie.sk
SUMMARY:Začiatok kurzu Teenager Group – BA – Rača
DESCRIPTION:ZľavaZľavnený produkt\n\n\n\n\nTeenager Group\n\n\n\n\n					210\,00 € Pôvodná cena bola: 210\,00 €.170\,00 €Aktuálna cena je: 170\,00 €.\n				\n\n\n\n\n	\n	\n		\n		\n		množstvo Teenager Group\n	\n	\n\n		Pridať do košíka
URL:https://doggie.sk/podujatie/zaciatok-kurzu-teenager-group-ba-raca-17/
END:VEVENT
END:VCALENDAR