BEGIN:VCALENDAR
VERSION:2.0
PRODID:-//Doggie - ECPv6.15.18//NONSGML v1.0//EN
CALSCALE:GREGORIAN
METHOD:PUBLISH
X-WR-CALNAME:Doggie
X-ORIGINAL-URL:https://doggie.sk
X-WR-CALDESC:Events for Doggie
REFRESH-INTERVAL;VALUE=DURATION:PT1H
X-Robots-Tag:noindex
X-PUBLISHED-TTL:PT1H
BEGIN:VTIMEZONE
TZID:Europe/Bratislava
BEGIN:DAYLIGHT
TZOFFSETFROM:+0100
TZOFFSETTO:+0200
TZNAME:CEST
DTSTART:20240331T010000
END:DAYLIGHT
BEGIN:STANDARD
TZOFFSETFROM:+0200
TZOFFSETTO:+0100
TZNAME:CET
DTSTART:20241027T010000
END:STANDARD
BEGIN:DAYLIGHT
TZOFFSETFROM:+0100
TZOFFSETTO:+0200
TZNAME:CEST
DTSTART:20250330T010000
END:DAYLIGHT
BEGIN:STANDARD
TZOFFSETFROM:+0200
TZOFFSETTO:+0100
TZNAME:CET
DTSTART:20251026T010000
END:STANDARD
BEGIN:DAYLIGHT
TZOFFSETFROM:+0100
TZOFFSETTO:+0200
TZNAME:CEST
DTSTART:20260329T010000
END:DAYLIGHT
BEGIN:STANDARD
TZOFFSETFROM:+0200
TZOFFSETTO:+0100
TZNAME:CET
DTSTART:20261025T010000
END:STANDARD
END:VTIMEZONE
BEGIN:VEVENT
DTSTART;TZID=Europe/Bratislava:20250804T180000
DTEND;TZID=Europe/Bratislava:20250804T200000
DTSTAMP:20260420T041900
CREATED:20250522T094722Z
LAST-MODIFIED:20250522T094724Z
UID:5456-1754330400-1754337600@doggie.sk
SUMMARY:Začiatok kurzu Summer Camp – BA – Petržalka
DESCRIPTION:Summer camp\n\n\n\n\n					210\,00 € Pôvodná cena bola: 210\,00 €.170\,00 €Aktuálna cena je: 170\,00 €.
URL:https://doggie.sk/podujatie/zaciatok-kurzu-summer-camp-ba-petrzalka-2/
END:VEVENT
END:VCALENDAR